{
 "currentVersion": 11.5,
 "serviceDescription": "OceanExploration/okeanos_explorer_grids_subsets",
 "name": "OceanExploration/okeanos_explorer_grids_subsets",
 "description": "",
 "extent": {
  "xmin": -2.00375070672E7,
  "ymin": -1874895.0027457736,
  "xmax": 2.0037507842788246E7,
  "ymax": 8606202.14,
  "spatialReference": {
   "wkid": 102100,
   "latestWkid": 3857
  }
 },
 "initialExtent": {
  "xmin": -2.00375070672E7,
  "ymin": -1874895.0027457736,
  "xmax": 2.0037507842788246E7,
  "ymax": 8606202.14,
  "spatialReference": {
   "wkid": 102100,
   "latestWkid": 3857
  }
 },
 "fullExtent": {
  "xmin": -2.00375070672E7,
  "ymin": -1874895.0027457736,
  "xmax": 2.0037507842788246E7,
  "ymax": 8606202.14,
  "spatialReference": {
   "wkid": 102100,
   "latestWkid": 3857
  }
 },
 "sortableFields": "MinPS,MaxPS,LowPS,HighPS,CenterX,CenterY,ZOrder,Shape_Length,Shape_Area",
 "bandCount": 1,
 "pixelType": "F32",
 "minValues": [],
 "maxValues": [],
 "meanValues": [],
 "stdvValues": [],
 "serviceProperties": "LockRaster<\/MosaicMethod>First<\/MosaicOperator>true<\/SortAscending><\/LockImageID>MinPS<\/TileOrderField><\/TileOrderBase>600.000000<\/AvgImageSpacingX>300.000000<\/AvgImageSpacingY>0.0<\/ViewPointX>0.0<\/ViewPointY>0.0<\/ViewPointDefShiftX>0.0<\/ViewPointDefShiftY>JPEG<\/CompressionMethod>90<\/CompressionQuality>0.010000<\/CompressionTolerance>Bilinear<\/SamplingMethod><\/ImageServiceProperties><\/ImageServer>",
 "allowedFields": "Name,MinPS,MaxPS,LowPS,HighPS,Tag,GroupName,ProductName,CenterX,CenterY,ZOrder,Shape_Length,Shape_Area,CruiseID",
 "hasMultidimensions": false,
 "pixelSizeX": 11.131948586107846,
 "pixelSizeY": 11.131948792815306,
 "meanPixelSize": 11.131948689461577,
 "datasetFormat": "AMD",
 "uncompressedSize": 13558075200000,
 "blockWidth": 2048,
 "blockHeight": 256,
 "compressionType": "None",
 "bandNames": [
  "Band_1"
 ],
 "allowCopy": true,
 "allowAnalysis": true,
 "itemAccess": false,
 "inspectionCapabilities": "",
 "minPixelSize": 0,
 "maxPixelSize": 0,
 "copyrightText": "",
 "serviceDataType": "esriImageServiceDataTypeGeneric",
 "serviceSourceType": "esriImageServiceSourceTypeMosaicDataset",
 "objectIdField": "OBJECTID",
 "fields": [
  {
   "name": "OBJECTID",
   "type": "esriFieldTypeOID",
   "alias": "OBJECTID",
   "domain": null
  },
  {
   "name": "Shape",
   "type": "esriFieldTypeGeometry",
   "alias": "Shape",
   "domain": null
  },
  {
   "name": "Name",
   "type": "esriFieldTypeString",
   "alias": "Name",
   "domain": null,
   "length": 200
  },
  {
   "name": "MinPS",
   "type": "esriFieldTypeDouble",
   "alias": "MinPS",
   "domain": null
  },
  {
   "name": "MaxPS",
   "type": "esriFieldTypeDouble",
   "alias": "MaxPS",
   "domain": null
  },
  {
   "name": "LowPS",
   "type": "esriFieldTypeDouble",
   "alias": "LowPS",
   "domain": null
  },
  {
   "name": "HighPS",
   "type": "esriFieldTypeDouble",
   "alias": "HighPS",
   "domain": null
  },
  {
   "name": "Category",
   "type": "esriFieldTypeInteger",
   "alias": "Category",
   "domain": {
    "type": "codedValue",
    "name": "MosaicCatalogItemCategoryDomain",
    "description": "Catalog item categories.",
    "codedValues": [
     {
      "name": "Unknown",
      "code": 0
     },
     {
      "name": "Primary",
      "code": 1
     },
     {
      "name": "Overview",
      "code": 2
     },
     {
      "name": "Unprocessed Overview",
      "code": 3
     },
     {
      "name": "Partial Overview",
      "code": 4
     },
     {
      "name": "Inactive",
      "code": 5
     },
     {
      "name": "Uploaded",
      "code": 253
     },
     {
      "name": "Incomplete",
      "code": 254
     },
     {
      "name": "Custom",
      "code": 255
     }
    ],
    "mergePolicy": "esriMPTDefaultValue",
    "splitPolicy": "esriSPTDefaultValue"
   }
  },
  {
   "name": "Tag",
   "type": "esriFieldTypeString",
   "alias": "Tag",
   "domain": null,
   "length": 100
  },
  {
   "name": "GroupName",
   "type": "esriFieldTypeString",
   "alias": "GroupName",
   "domain": null,
   "length": 100
  },
  {
   "name": "ProductName",
   "type": "esriFieldTypeString",
   "alias": "ProductName",
   "domain": null,
   "length": 100
  },
  {
   "name": "CenterX",
   "type": "esriFieldTypeDouble",
   "alias": "CenterX",
   "domain": null
  },
  {
   "name": "CenterY",
   "type": "esriFieldTypeDouble",
   "alias": "CenterY",
   "domain": null
  },
  {
   "name": "ZOrder",
   "type": "esriFieldTypeInteger",
   "alias": "ZOrder",
   "domain": null
  },
  {
   "name": "Shape_Length",
   "type": "esriFieldTypeDouble",
   "alias": "Shape_Length",
   "domain": null
  },
  {
   "name": "Shape_Area",
   "type": "esriFieldTypeDouble",
   "alias": "Shape_Area",
   "domain": null
  },
  {
   "name": "CruiseID",
   "type": "esriFieldTypeString",
   "alias": "CruiseID",
   "domain": null,
   "length": 10
  }
 ],
 "capabilities": "Image,Metadata,Catalog,Mensuration",
 "defaultMosaicMethod": "LockRaster",
 "allowedMosaicMethods": "LockRaster",
 "sortField": "",
 "sortValue": null,
 "sortAscending": true,
 "mosaicOperator": "First",
 "maxDownloadSizeLimit": 2048,
 "defaultCompressionQuality": 90,
 "defaultResamplingMethod": "Bilinear",
 "maxImageHeight": 20000,
 "maxImageWidth": 20000,
 "maxRecordCount": 1000,
 "maxDownloadImageCount": 20,
 "maxMosaicImageCount": 20,
 "allowRasterFunction": true,
 "rasterFunctionInfos": [
  {
   "name": "ColorHillshadeHaxby_8000-0",
   "description": "Multidirectional Color Hillshade (Haxby color palette, range 8000-0m)",
   "help": "An elevation-tinted shaded relief visualization, using Esri's \"multidirectional hillshade\". The depths are displayed using this color ramp: https://www.ncei.noaa.gov/maps/bathymetry/images/haxby_color_scale_8000-0.png"
  },
  {
   "name": "None",
   "description": "Make a Raster or Raster Dataset into a Function Raster Dataset.",
   "help": ""
  },
  {
   "name": "ColorHillshadeHaxby_1000-0",
   "description": "Multidirectional Color Hillshade (Haxby color palette, range 1000-0m)",
   "help": "An elevation-tinted shaded relief visualization, using Esri's \"multidirectional hillshade\". The depths are displayed using this color ramp: https://www.ncei.noaa.gov/maps/bathymetry/images/haxby_color_scale.png"
  },
  {
   "name": "ColorHillshadeHaxby_2000-0",
   "description": "Multidirectional Color Hillshade (Haxby color palette, range 2000-0m)",
   "help": "An elevation-tinted shaded relief visualization, using Esri's \"multidirectional hillshade\". The depths are displayed using this color ramp: https://www.ncei.noaa.gov/maps/bathymetry/images/haxby_color_scale.png"
  },
  {
   "name": "ColorHillshadeHaxby_5000-0",
   "description": "Multidirectional Color Hillshade (Haxby color palette, range 5000-0m)",
   "help": "An elevation-tinted shaded relief visualization, using Esri's \"multidirectional hillshade\". The depths are displayed using this color ramp: https://www.ncei.noaa.gov/maps/bathymetry/images/haxby_color_scale.png"
  },
  {
   "name": "ColorHillshadeHaxby_DRA",
   "description": "Multidirectional Color Hillshade (Haxby color palette, dynamic range adjustment)",
   "help": "An elevation-tinted shaded relief visualization, using Esri's \"multidirectional hillshade\". The depths are displayed using this color ramp: https://www.ncei.noaa.gov/maps/bathymetry/images/haxby_color_scale.png"
  },
  {
   "name": "ColorHillshadeBlues_1000-0",
   "description": "Multidirectional Color Hillshade (blue color palette, range 1000-0m)",
   "help": "An elevation-tinted shaded relief visualization, using Esri's \"multidirectional hillshade\". The depths are displayed using this color ramp: https://www.ncei.noaa.gov/maps/bathymetry/images/blue_color_scale.png"
  },
  {
   "name": "ColorHillshadeBlues_2000-0",
   "description": "Multidirectional Color Hillshade (blue color palette, range 2000-0m)",
   "help": "An elevation-tinted shaded relief visualization, using Esri's \"multidirectional hillshade\". The depths are displayed using this color ramp: https://www.ncei.noaa.gov/maps/bathymetry/images/blue_color_scale.png"
  },
  {
   "name": "ColorHillshadeBlues_5000-0",
   "description": "Multidirectional Color Hillshade (blue color palette, range 5000-0m)",
   "help": "An elevation-tinted shaded relief visualization, using Esri's \"multidirectional hillshade\". The depths are displayed using this color ramp: https://www.ncei.noaa.gov/maps/bathymetry/images/blue_color_scale.png"
  },
  {
   "name": "ColorHillshadeBlues_8000-0",
   "description": "Multidirectional Color Hillshade (blue color palette, range 8000-0m)",
   "help": "An elevation-tinted shaded relief visualization, using Esri's \"multidirectional hillshade\". The depths are displayed using this color ramp: https://www.ncei.noaa.gov/maps/bathymetry/images/blue_color_scale.png"
  },
  {
   "name": "ColorHillshadeBlues_DRA",
   "description": "Multidirectional Color Hillshade (bluecolor palette, dynamic range adjustment)",
   "help": "An elevation-tinted shaded relief visualization, using Esri's \"multidirectional hillshade\". The depths are displayed using this color ramp: https://www.ncei.noaa.gov/maps/bathymetry/images/blue_color_scale.png"
  },
  {
   "name": "ColorHillshadeDarkBlues_1000-0",
   "description": "Multidirectional Color Hillshade (dark blue color palette, range 1000-0m)",
   "help": "An elevation-tinted shaded relief visualization, using Esri's \"multidirectional hillshade\". The depths are displayed using this color ramp: https://www.ncei.noaa.gov/maps/bathymetry/images/dark_blue_color_scale.png"
  },
  {
   "name": "ColorHillshadeDarkBlues_2000-0",
   "description": "Multidirectional Color Hillshade (dark blue color palette, range 2000-0m)",
   "help": "An elevation-tinted shaded relief visualization, using Esri's \"multidirectional hillshade\". The depths are displayed using this color ramp: https://www.ncei.noaa.gov/maps/bathymetry/images/dark_blue_color_scale.png"
  },
  {
   "name": "ColorHillshadeDarkBlues_5000-0",
   "description": "Multidirectional Color Hillshade (dark blue color palette, range 5000-0m)",
   "help": "An elevation-tinted shaded relief visualization, using Esri's \"multidirectional hillshade\". The depths are displayed using this color ramp: https://www.ncei.noaa.gov/maps/bathymetry/images/dark_blue_color_scale.png"
  },
  {
   "name": "ColorHillshadeDarkBlues_8000-0",
   "description": "Multidirectional Color Hillshade (dark blue color palette, range 8000-0m)",
   "help": "An elevation-tinted shaded relief visualization, using Esri's \"multidirectional hillshade\". The depths are displayed using this color ramp: https://www.ncei.noaa.gov/maps/bathymetry/images/dark_blue_color_scale.png"
  },
  {
   "name": "ColorHillshadeDarkBlues_DRA",
   "description": "Multidirectional Color Hillshade (dark blue color palette, dynamic range adjustment)",
   "help": "An elevation-tinted shaded relief visualization, using Esri's \"multidirectional hillshade\". The depths are displayed using this color ramp: https://www.ncei.noaa.gov/maps/bathymetry/images/dark_blue_color_scale.png"
  }
 ],
 "rasterTypeInfos": [
  {
   "name": "Raster Dataset",
   "description": "Supports all ArcGIS Raster Datasets",
   "help": ""
  }
 ],
 "mensurationCapabilities": "Basic",
 "hasHistograms": false,
 "hasColormap": false,
 "hasRasterAttributeTable": false,
 "minScale": 0,
 "maxScale": 0,
 "exportTilesAllowed": false,
 "supportsStatistics": true,
 "supportsAdvancedQueries": true,
 "editFieldsInfo": null,
 "ownershipBasedAccessControlForRasters": null,
 "allowComputeTiePoints": false,
 "useStandardizedQueries": true,
 "advancedQueryCapabilities": {
  "useStandardizedQueries": true,
  "supportsStatistics": true,
  "supportsOrderBy": true,
  "supportsDistinct": true,
  "supportsPagination": true
 },
 "spatialReference": {
  "wkid": 102100,
  "latestWkid": 3857
 }
}
