{
 "currentVersion": 11.3,
 "serviceDescription": "multibeam_mosaic",
 "name": "multibeam_mosaic",
 "description": "",
 "extent": {
  "xmin": -180,
  "ymin": -90,
  "xmax": 180,
  "ymax": 90,
  "spatialReference": {
   "wkid": 4326,
   "latestWkid": 4326
  }
 },
 "initialExtent": {
  "xmin": -180,
  "ymin": -90,
  "xmax": 180,
  "ymax": 90,
  "spatialReference": {
   "wkid": 4326,
   "latestWkid": 4326
  }
 },
 "fullExtent": {
  "xmin": -180,
  "ymin": -90,
  "xmax": 180,
  "ymax": 90,
  "spatialReference": {
   "wkid": 4326,
   "latestWkid": 4326
  }
 },
 "sortableFields": "",
 "bandCount": 1,
 "pixelType": "F32",
 "minValues": [],
 "maxValues": [],
 "meanValues": [],
 "stdvValues": [],
 "hasMultidimensions": false,
 "pixelSizeX": 8.332638946754438E-4,
 "pixelSizeY": 8.332638946754438E-4,
 "meanPixelSize": 92.75851245169034,
 "datasetFormat": "AMD",
 "uncompressedSize": 373310210592,
 "blockWidth": 2048,
 "blockHeight": 256,
 "compressionType": "None",
 "bandNames": [
  "Band_1"
 ],
 "allowCopy": true,
 "allowAnalysis": true,
 "itemAccess": false,
 "inspectionCapabilities": "",
 "minPixelSize": 0,
 "maxPixelSize": 0,
 "copyrightText": "",
 "serviceDataType": "esriImageServiceDataTypeGeneric",
 "serviceSourceType": "esriImageServiceSourceTypeMosaicDataset",
 "objectIdField": "OBJECTID",
 "fields": [
  {
   "name": "OBJECTID",
   "type": "esriFieldTypeOID",
   "alias": "OBJECTID",
   "domain": null
  },
  {
   "name": "Shape",
   "type": "esriFieldTypeGeometry",
   "alias": "Shape",
   "domain": null
  },
  {
   "name": "Name",
   "type": "esriFieldTypeString",
   "alias": "Name",
   "domain": null,
   "length": 200
  },
  {
   "name": "MinPS",
   "type": "esriFieldTypeDouble",
   "alias": "MinPS",
   "domain": null
  },
  {
   "name": "MaxPS",
   "type": "esriFieldTypeDouble",
   "alias": "MaxPS",
   "domain": null
  },
  {
   "name": "LowPS",
   "type": "esriFieldTypeDouble",
   "alias": "LowPS",
   "domain": null
  },
  {
   "name": "HighPS",
   "type": "esriFieldTypeDouble",
   "alias": "HighPS",
   "domain": null
  },
  {
   "name": "Category",
   "type": "esriFieldTypeInteger",
   "alias": "Category",
   "domain": {
    "type": "codedValue",
    "name": "MosaicCatalogItemCategoryDomain",
    "description": "Catalog item categories.",
    "codedValues": [
     {
      "name": "Unknown",
      "code": 0
     },
     {
      "name": "Primary",
      "code": 1
     },
     {
      "name": "Overview",
      "code": 2
     },
     {
      "name": "Unprocessed Overview",
      "code": 3
     },
     {
      "name": "Partial Overview",
      "code": 4
     },
     {
      "name": "Inactive",
      "code": 5
     },
     {
      "name": "Uploaded",
      "code": 253
     },
     {
      "name": "Incomplete",
      "code": 254
     },
     {
      "name": "Custom",
      "code": 255
     }
    ],
    "mergePolicy": "esriMPTDefaultValue",
    "splitPolicy": "esriSPTDefaultValue"
   }
  },
  {
   "name": "Tag",
   "type": "esriFieldTypeString",
   "alias": "Tag",
   "domain": null,
   "length": 100
  },
  {
   "name": "GroupName",
   "type": "esriFieldTypeString",
   "alias": "GroupName",
   "domain": null,
   "length": 100
  },
  {
   "name": "ProductName",
   "type": "esriFieldTypeString",
   "alias": "ProductName",
   "domain": null,
   "length": 100
  },
  {
   "name": "CenterX",
   "type": "esriFieldTypeDouble",
   "alias": "CenterX",
   "domain": null
  },
  {
   "name": "CenterY",
   "type": "esriFieldTypeDouble",
   "alias": "CenterY",
   "domain": null
  },
  {
   "name": "ZOrder",
   "type": "esriFieldTypeInteger",
   "alias": "ZOrder",
   "domain": null
  },
  {
   "name": "Shape_Length",
   "type": "esriFieldTypeDouble",
   "alias": "Shape_Length",
   "domain": null
  },
  {
   "name": "Shape_Area",
   "type": "esriFieldTypeDouble",
   "alias": "Shape_Area",
   "domain": null
  },
  {
   "name": "NCEI_ID",
   "type": "esriFieldTypeString",
   "alias": "NCEI_ID",
   "domain": null,
   "length": 8
  },
  {
   "name": "SURVEY_ID",
   "type": "esriFieldTypeString",
   "alias": "SURVEY_ID",
   "domain": null,
   "length": 100
  },
  {
   "name": "PLATFORM",
   "type": "esriFieldTypeString",
   "alias": "PLATFORM",
   "domain": null,
   "length": 100
  },
  {
   "name": "SOURCE",
   "type": "esriFieldTypeString",
   "alias": "SOURCE",
   "domain": null,
   "length": 200
  },
  {
   "name": "CHIEF_SCIENTIST",
   "type": "esriFieldTypeString",
   "alias": "CHIEF_SCIENTIST",
   "domain": null,
   "length": 200
  },
  {
   "name": "INSTRUMENT",
   "type": "esriFieldTypeString",
   "alias": "INSTRUMENT",
   "domain": null,
   "length": 100
  },
  {
   "name": "START_TIME",
   "type": "esriFieldTypeDate",
   "alias": "START_TIME",
   "domain": null,
   "length": 8
  },
  {
   "name": "END_TIME",
   "type": "esriFieldTypeDate",
   "alias": "END_TIME",
   "domain": null,
   "length": 8
  },
  {
   "name": "SURVEY_YEAR",
   "type": "esriFieldTypeInteger",
   "alias": "SURVEY_YEAR",
   "domain": null
  },
  {
   "name": "ENTERED_DATE",
   "type": "esriFieldTypeDate",
   "alias": "ENTERED_DATE",
   "domain": null,
   "length": 8
  },
  {
   "name": "Version",
   "type": "esriFieldTypeSmallInteger",
   "alias": "Version",
   "domain": null
  },
  {
   "name": "Min",
   "type": "esriFieldTypeSingle",
   "alias": "Min",
   "domain": null
  },
  {
   "name": "Max",
   "type": "esriFieldTypeSingle",
   "alias": "Max",
   "domain": null
  },
  {
   "name": "StdDev",
   "type": "esriFieldTypeSingle",
   "alias": "StdDev",
   "domain": null
  },
  {
   "name": "Mean",
   "type": "esriFieldTypeSingle",
   "alias": "Mean",
   "domain": null
  },
  {
   "name": "DateAdded",
   "type": "esriFieldTypeDate",
   "alias": "DateAdded",
   "domain": null,
   "length": 8
  },
  {
   "name": "DOWNLOAD_URL",
   "type": "esriFieldTypeString",
   "alias": "DOWNLOAD_URL",
   "domain": null,
   "length": 255
  }
 ],
 "capabilities": "Image,Metadata,Catalog,Mensuration",
 "defaultMosaicMethod": "Northwest",
 "allowedMosaicMethods": "NorthWest",
 "sortField": "",
 "sortValue": null,
 "sortAscending": true,
 "mosaicOperator": "Mean",
 "maxDownloadSizeLimit": 2048,
 "defaultCompressionQuality": 50000,
 "defaultResamplingMethod": "Bilinear",
 "maxImageHeight": 20000,
 "maxImageWidth": 20000,
 "maxRecordCount": 1000,
 "maxDownloadImageCount": 999,
 "maxMosaicImageCount": 9999,
 "allowRasterFunction": true,
 "rasterFunctionInfos": [
  {
   "name": "MultidirectionalHillshadeHaxby_8000-0",
   "description": "Multidirectional Color Hillshade (Haxby color palette, range 8000-0m)",
   "help": "An elevation-tinted shaded relief visualization, using Esri's \"multidirectional hillshade\". The depths are displayed using this color ramp: https://maps.ngdc.noaa.gov/viewers/images/haxby_color_scale_8000-0.png"
  },
  {
   "name": "None",
   "description": "Make a Raster or Raster Dataset into a Function Raster Dataset.",
   "help": ""
  },
  {
   "name": "MultidirectionalHillshadeBlues_1000-0",
   "description": "Multidirectional Color Hillshade (blue color palette, range 1000-0m)",
   "help": "An elevation-tinted shaded relief visualization, using Esri's \"multidirectional hillshade\". The depths are displayed using this color ramp: https://maps.ngdc.noaa.gov/viewers/images/blue_color_scale_1000-0.png"
  },
  {
   "name": "MultidirectionalHillshadeBlues_2000-0",
   "description": "Multidirectional Color Hillshade (blue color palette, range 2000-0m)",
   "help": "An elevation-tinted shaded relief visualization, using Esri's \"multidirectional hillshade\". The depths are displayed using this color ramp: https://maps.ngdc.noaa.gov/viewers/images/blue_color_scale_2000-0.png"
  },
  {
   "name": "MultidirectionalHillshadeBlues_5000-0",
   "description": "Multidirectional Color Hillshade (blue color palette, range 5000-0m)",
   "help": "An elevation-tinted shaded relief visualization, using Esri's \"multidirectional hillshade\". The depths are displayed using this color ramp: https://maps.ngdc.noaa.gov/viewers/images/blue_color_scale_5000-0.png"
  },
  {
   "name": "MultidirectionalHillshadeBlues_8000-0",
   "description": "Multidirectional Color Hillshade (blue color palette, range 8000-0m)",
   "help": "An elevation-tinted shaded relief visualization, using Esri's \"multidirectional hillshade\". The depths are displayed using this color ramp: https://maps.ngdc.noaa.gov/viewers/images/blue_color_scale_8000-0.png"
  },
  {
   "name": "MultidirectionalHillshadeBluesDRA",
   "description": "Multidirectional Color Hillshade (blue color palette, dynamic range adjustment)",
   "help": "An elevation-tinted shaded relief visualization, using Esri's \"multidirectional hillshade\". The depths are displayed using this color ramp: https://maps.ngdc.noaa.gov/viewers/images/blue_color_scale.png, scaled to the min/max depth in the current view (dynamic range adjustment)."
  },
  {
   "name": "MultidirectionalHillshadeDarkBlues_1000-0",
   "description": "Multidirectional Color Hillshade (dark blue color palette, range 1000-0m)",
   "help": "An elevation-tinted shaded relief visualization, using Esri's \"multidirectional hillshade\". The depths are displayed using this color ramp: https://maps.ngdc.noaa.gov/viewers/images/dark_blue_color_scale_1000-0.png"
  },
  {
   "name": "MultidirectionalHillshadeDarkBlues_2000-0",
   "description": "Multidirectional Color Hillshade (dark blue color palette, range 2000-0m)",
   "help": "An elevation-tinted shaded relief visualization, using Esri's \"multidirectional hillshade\". The depths are displayed using this color ramp: https://maps.ngdc.noaa.gov/viewers/images/dark_blue_color_scale_2000-0.png"
  },
  {
   "name": "MultidirectionalHillshadeDarkBlues_5000-0",
   "description": "Multidirectional Color Hillshade (dark blue color palette, range 5000-0m)",
   "help": "An elevation-tinted shaded relief visualization, using Esri's \"multidirectional hillshade\". The depths are displayed using this color ramp: https://maps.ngdc.noaa.gov/viewers/images/dark_blue_color_scale_5000-0.png"
  },
  {
   "name": "MultidirectionalHillshadeDarkBlues_8000-0",
   "description": "Multidirectional Color Hillshade (dark blue color palette, range 8000-0m)",
   "help": "An elevation-tinted shaded relief visualization, using Esri's \"multidirectional hillshade\". The depths are displayed using this color ramp: https://maps.ngdc.noaa.gov/viewers/images/dark_blue_color_scale_8000-0.png"
  },
  {
   "name": "MultidirectionalHillshadeDarkBluesDRA",
   "description": "Multidirectional Color Hillshade (dark blue color palette, dynamic range adjustment)",
   "help": "An elevation-tinted shaded relief visualization, using Esri's \"multidirectional hillshade\". The depths are displayed using this color ramp: https://maps.ngdc.noaa.gov/viewers/images/dark_blue_color_scale.png, scaled to the min/max depth in the current view (dynamic range adjustment)."
  },
  {
   "name": "MultidirectionalHillshadeHaxby_1000-0",
   "description": "Multidirectional Color Hillshade (Haxby color palette, range 1000-0m)",
   "help": ""
  },
  {
   "name": "MultidirectionalHillshadeHaxby_2000-0",
   "description": "Multidirectional Color Hillshade (Haxby color palette, range 2000-0m)",
   "help": "An elevation-tinted shaded relief visualization, using Esri's \"multidirectional hillshade\". The depths are displayed using this color ramp: https://maps.ngdc.noaa.gov/viewers/images/haxby_color_scale_2000-0.png"
  },
  {
   "name": "MultidirectionalHillshadeHaxby_5000-0",
   "description": "Multidirectional Color Hillshade (Haxby color palette, range 5000-0m)",
   "help": "An elevation-tinted shaded relief visualization, using Esri's \"multidirectional hillshade\". The depths are displayed using this color ramp: https://maps.ngdc.noaa.gov/viewers/images/haxby_color_scale_5000-0.png"
  },
  {
   "name": "MultidirectionalHillshadeHaxbyDRA",
   "description": "Multidirectional Color Hillshade (Haxby color palette, dynamic range adjustment)",
   "help": "An elevation-tinted shaded relief visualization, using Esri's \"multidirectional hillshade\". The depths are displayed using this color ramp: https://maps.ngdc.noaa.gov/viewers/images/haxby_color_scale.png, scaled to the min/max depth in the current view (dynamic range adjustment)."
  },
  {
   "name": "MultidirectionalHillshadePurpleBlue_1000-0",
   "description": "Multidirectional Color Hillshade (Haxby color palette, range 1000-0m)",
   "help": "An elevation-tinted shaded relief visualization, using Esri's \"multidirectional hillshade\". The depths are displayed using this color ramp: https://maps.ngdc.noaa.gov/viewers/images/purple_blue_color_scale_1000-0.png"
  },
  {
   "name": "MultidirectionalHillshadePurpleBlue_2000-0",
   "description": "Multidirectional Color Hillshade (Haxby color palette, range 2000-0m)",
   "help": "An elevation-tinted shaded relief visualization, using Esri's \"multidirectional hillshade\". The depths are displayed using this color ramp: https://maps.ngdc.noaa.gov/viewers/images/purple_blue_color_scale_2000-0.png"
  },
  {
   "name": "MultidirectionalHillshadePurpleBlue_5000-0",
   "description": "Multidirectional Color Hillshade (Haxby color palette, range 5000-0m)",
   "help": "An elevation-tinted shaded relief visualization, using Esri's \"multidirectional hillshade\". The depths are displayed using this color ramp: https://maps.ngdc.noaa.gov/viewers/images/purple_blue_color_scale_5000-0.png"
  },
  {
   "name": "MultidirectionalHillshadePurpleBlue_8000-0",
   "description": "Multidirectional Color Hillshade (Haxby color palette, range 8000-0m)",
   "help": "An elevation-tinted shaded relief visualization, using Esri's \"multidirectional hillshade\". The depths are displayed using this color ramp: https://maps.ngdc.noaa.gov/viewers/images/purple_blue_color_scale_8000-0.png"
  },
  {
   "name": "MultidirectionalHillshadePurpleBlueDRA",
   "description": "Multidirectional Color Hillshade (purple-blue color palette, dynamic range adjustment).",
   "help": "An elevation-tinted shaded relief visualization, using Esri's \"multidirectional hillshade\". The depths are displayed using this color ramp: https://maps.ngdc.noaa.gov/viewers/images/purple_blue_color_scale.png, scaled to the min/max depth in the current view (dynamic range adjustment)."
  }
 ],
 "rasterTypeInfos": [
  {
   "name": "Raster Dataset",
   "description": "Supports all ArcGIS Raster Datasets",
   "help": ""
  }
 ],
 "mensurationCapabilities": "Basic",
 "hasHistograms": false,
 "hasColormap": false,
 "hasRasterAttributeTable": false,
 "minScale": 0,
 "maxScale": 0,
 "exportTilesAllowed": false,
 "supportsStatistics": true,
 "supportsAdvancedQueries": true,
 "editFieldsInfo": null,
 "ownershipBasedAccessControlForRasters": null,
 "allowComputeTiePoints": false,
 "useStandardizedQueries": true,
 "advancedQueryCapabilities": {
  "useStandardizedQueries": true,
  "supportsStatistics": true,
  "supportsOrderBy": true,
  "supportsDistinct": true,
  "supportsPagination": true
 },
 "spatialReference": {
  "wkid": 4326,
  "latestWkid": 4326
 }
}
