{
 "currentVersion": 11.1,
 "serviceDescription": "nccos/Current_vector_field_magdir_crf",
 "name": "nccos/Current_vector_field_magdir_crf",
 "description": "",
 "extent": {
  "xmin": -72.91808688750237,
  "ymin": 38.65348880802593,
  "xmax": -61.95619198369738,
  "ymax": 46.63780662528429,
  "spatialReference": {
   "wkid": 4326,
   "latestWkid": 4326
  }
 },
 "initialExtent": {
  "xmin": -72.91808688750237,
  "ymin": 38.65348880802593,
  "xmax": -61.95619198369738,
  "ymax": 46.63780662528429,
  "spatialReference": {
   "wkid": 4326,
   "latestWkid": 4326
  }
 },
 "fullExtent": {
  "xmin": -72.91808688750237,
  "ymin": 38.65348880802593,
  "xmax": -61.95619198369738,
  "ymax": 46.63780662528429,
  "spatialReference": {
   "wkid": 4326,
   "latestWkid": 4326
  }
 },
 "sortableFields": "",
 "bandCount": 2,
 "pixelType": "F64",
 "minValues": [
  8.736743620829657E-5,
  -90
 ],
 "maxValues": [
  6.741545938815642,
  269.9995494537686
 ],
 "meanValues": [
  0.4108318001298295,
  74.70705802225002
 ],
 "stdvValues": [
  0.3250628948362599,
  100.58427411315047
 ],
 "hasMultidimensions": true,
 "timeInfo": {
  "startTimeField": "StdTime",
  "endTimeField": "StdTime",
  "timeExtent": [
   1681948800000,
   1684108800000
  ],
  "timeReference": null,
  "defaultTimeInterval": 12,
  "defaultTimeIntervalUnits": "esriTimeUnitsHours"
 },
 "pixelSizeX": 0.02205612656701205,
 "pixelSizeY": 0.022056126567012058,
 "datasetFormat": "Cache/LERC2D",
 "uncompressedSize": 2878624,
 "blockWidth": 256,
 "blockHeight": 256,
 "compressionType": "LERC2D",
 "bandNames": [
  "Vector-Magnitude",
  "Vector-Direction"
 ],
 "allowCopy": true,
 "allowAnalysis": true,
 "itemAccess": false,
 "defaultVariable": "",
 "noDataValue": 1.79E308,
 "noDataValues": [
  1.79E308,
  1.79E308
 ],
 "minPixelSize": 0,
 "maxPixelSize": 0,
 "copyrightText": "",
 "serviceDataType": "esriImageServiceDataTypeVector-MagDir",
 "serviceSourceType": "esriImageServiceSourceTypeDataset",
 "objectIdField": "",
 "fields": [],
 "capabilities": "Image,Metadata,Mensuration",
 "defaultMosaicMethod": "Center",
 "allowedMosaicMethods": "",
 "sortField": "",
 "sortValue": null,
 "sortAscending": true,
 "mosaicOperator": "First",
 "defaultCompressionQuality": 75,
 "defaultResamplingMethod": "Bilinear",
 "maxImageHeight": 4100,
 "maxImageWidth": 15000,
 "allowRasterFunction": true,
 "rasterFunctionInfos": [
  {
   "name": "None",
   "description": "",
   "help": ""
  }
 ],
 "rasterTypeInfos": [
  {
   "name": "Raster Dataset",
   "description": "Supports all ArcGIS Raster Datasets",
   "help": ""
  }
 ],
 "mensurationCapabilities": "Basic",
 "hasHistograms": true,
 "hasColormap": false,
 "hasRasterAttributeTable": false,
 "minScale": 0,
 "maxScale": 0,
 "exportTilesAllowed": false,
 "supportsStatistics": false,
 "supportsAdvancedQueries": false,
 "editFieldsInfo": null,
 "ownershipBasedAccessControlForRasters": null,
 "allowComputeTiePoints": false,
 "useStandardizedQueries": true,
 "advancedQueryCapabilities": {
  "useStandardizedQueries": true,
  "supportsStatistics": false,
  "supportsOrderBy": false,
  "supportsDistinct": false,
  "supportsPagination": false
 },
 "spatialReference": {
  "wkid": 4326,
  "latestWkid": 4326
 }
}
