{
 "currentVersion": 11.1,
 "serviceDescription": "nccos/GOM_Forecast_wind_crf",
 "name": "nccos/GOM_Forecast_wind_crf",
 "description": "",
 "extent": {
  "xmin": -72.91808688750237,
  "ymin": 38.63780662528429,
  "xmax": -61.41808688750237,
  "ymax": 45.88780662528429,
  "spatialReference": {
   "wkid": 4326,
   "latestWkid": 4326
  }
 },
 "initialExtent": {
  "xmin": -72.91808688750237,
  "ymin": 38.63780662528429,
  "xmax": -61.41808688750237,
  "ymax": 45.88780662528429,
  "spatialReference": {
   "wkid": 4326,
   "latestWkid": 4326
  }
 },
 "fullExtent": {
  "xmin": -72.91808688750237,
  "ymin": 38.63780662528429,
  "xmax": -61.41808688750237,
  "ymax": 45.88780662528429,
  "spatialReference": {
   "wkid": 4326,
   "latestWkid": 4326
  }
 },
 "sortableFields": "",
 "bandCount": 2,
 "pixelType": "F32",
 "minValues": [
  -1.561886191368103,
  -2.141693353652954
 ],
 "maxValues": [
  1.2096480131149292,
  0.9383893013000488
 ],
 "meanValues": [
  0.007506785560587778,
  -0.010828489613427006
 ],
 "stdvValues": [
  0.11740864017811933,
  0.10639912632642404
 ],
 "hasMultidimensions": true,
 "timeInfo": {
  "startTimeField": "StdTime",
  "endTimeField": "StdTime",
  "timeExtent": [
   1677628800000,
   1689422400000
  ],
  "timeReference": null,
  "defaultTimeInterval": 12,
  "defaultTimeIntervalUnits": "esriTimeUnitsHours"
 },
 "pixelSizeX": 0.25,
 "pixelSizeY": 0.25,
 "datasetFormat": "Cache/LERC2D",
 "uncompressedSize": 10672,
 "blockWidth": 256,
 "blockHeight": 256,
 "compressionType": "LERC2D",
 "bandNames": [
  "Vector-U",
  "Vector-V"
 ],
 "allowCopy": true,
 "allowAnalysis": true,
 "itemAccess": false,
 "defaultVariable": "",
 "noDataValue": 4294967296,
 "noDataValues": [
  4294967296,
  4294967296
 ],
 "minPixelSize": 0,
 "maxPixelSize": 0,
 "copyrightText": "",
 "serviceDataType": "esriImageServiceDataTypeVector-UV",
 "serviceSourceType": "esriImageServiceSourceTypeDataset",
 "objectIdField": "",
 "fields": [],
 "capabilities": "Image,Metadata,Mensuration",
 "defaultMosaicMethod": "Center",
 "allowedMosaicMethods": "",
 "sortField": "",
 "sortValue": null,
 "sortAscending": true,
 "mosaicOperator": "First",
 "defaultCompressionQuality": 75,
 "defaultResamplingMethod": "Bilinear",
 "maxImageHeight": 4100,
 "maxImageWidth": 15000,
 "allowRasterFunction": true,
 "rasterFunctionInfos": [
  {
   "name": "None",
   "description": "",
   "help": ""
  }
 ],
 "rasterTypeInfos": [
  {
   "name": "Raster Dataset",
   "description": "Supports all ArcGIS Raster Datasets",
   "help": ""
  }
 ],
 "mensurationCapabilities": "Basic",
 "hasHistograms": true,
 "hasColormap": false,
 "hasRasterAttributeTable": false,
 "minScale": 0,
 "maxScale": 0,
 "exportTilesAllowed": false,
 "supportsStatistics": false,
 "supportsAdvancedQueries": false,
 "editFieldsInfo": null,
 "ownershipBasedAccessControlForRasters": null,
 "allowComputeTiePoints": false,
 "useStandardizedQueries": true,
 "advancedQueryCapabilities": {
  "useStandardizedQueries": true,
  "supportsStatistics": false,
  "supportsOrderBy": false,
  "supportsDistinct": false,
  "supportsPagination": false
 },
 "spatialReference": {
  "wkid": 4326,
  "latestWkid": 4326
 }
}
