{
 "currentVersion": 11.3,
 "serviceDescription": "nccos/GOM_forecast_current_crf",
 "name": "nccos/GOM_forecast_current_crf",
 "description": "",
 "extent": {
  "xmin": -72.91808688750237,
  "ymin": 38.65348880802593,
  "xmax": -61.95619198369738,
  "ymax": 46.63780662528429,
  "spatialReference": {
   "wkid": 4326,
   "latestWkid": 4326
  }
 },
 "initialExtent": {
  "xmin": -72.91808688750237,
  "ymin": 38.65348880802593,
  "xmax": -61.95619198369738,
  "ymax": 46.63780662528429,
  "spatialReference": {
   "wkid": 4326,
   "latestWkid": 4326
  }
 },
 "fullExtent": {
  "xmin": -72.91808688750237,
  "ymin": 38.65348880802593,
  "xmax": -61.95619198369738,
  "ymax": 46.63780662528429,
  "spatialReference": {
   "wkid": 4326,
   "latestWkid": 4326
  }
 },
 "sortableFields": "",
 "bandCount": 2,
 "pixelType": "F64",
 "minValues": [
  -3.875311851501465,
  -2.3626410961151123
 ],
 "maxValues": [
  6.15838623046875,
  2.574404239654541
 ],
 "meanValues": [
  0.0025647978208127612,
  0.025525620990622562
 ],
 "stdvValues": [
  0.3498956955717969,
  0.37079355172856004
 ],
 "hasMultidimensions": true,
 "timeInfo": {
  "startTimeField": "StdTime",
  "endTimeField": "StdTime",
  "timeExtent": [
   1740787200000,
   1753833600000
  ],
  "timeReference": null,
  "defaultTimeInterval": 12,
  "defaultTimeIntervalUnits": "esriTimeUnitsHours"
 },
 "pixelSizeX": 0.02205612656701205,
 "pixelSizeY": 0.022056126567012058,
 "meanPixelSize": 2455.2767783117747,
 "datasetFormat": "Cache/LERC2D",
 "uncompressedSize": 2878624,
 "blockWidth": 256,
 "blockHeight": 256,
 "compressionType": "LERC2D",
 "bandNames": [
  "Vector-U",
  "Vector-V"
 ],
 "allowCopy": true,
 "allowAnalysis": true,
 "itemAccess": false,
 "defaultVariable": "",
 "inspectionCapabilities": "",
 "noDataValue": 9.9999999E36,
 "noDataValues": [
  9.9999999E36,
  9.9999999E36
 ],
 "minPixelSize": 0,
 "maxPixelSize": 0,
 "copyrightText": "",
 "serviceDataType": "esriImageServiceDataTypeVector-UV",
 "serviceSourceType": "esriImageServiceSourceTypeDataset",
 "objectIdField": "",
 "fields": [],
 "capabilities": "Image,Metadata,Mensuration",
 "defaultMosaicMethod": "Center",
 "allowedMosaicMethods": "",
 "sortField": "",
 "sortValue": null,
 "sortAscending": true,
 "mosaicOperator": "First",
 "defaultCompressionQuality": 75,
 "defaultResamplingMethod": "Bilinear",
 "maxImageHeight": 4100,
 "maxImageWidth": 15000,
 "allowRasterFunction": true,
 "rasterFunctionInfos": [
  {
   "name": "None",
   "description": "",
   "help": ""
  }
 ],
 "rasterTypeInfos": [
  {
   "name": "Raster Dataset",
   "description": "Supports all ArcGIS Raster Datasets",
   "help": ""
  }
 ],
 "mensurationCapabilities": "Basic",
 "hasHistograms": true,
 "hasColormap": false,
 "hasRasterAttributeTable": false,
 "minScale": 0,
 "maxScale": 0,
 "exportTilesAllowed": false,
 "supportsStatistics": false,
 "supportsAdvancedQueries": false,
 "editFieldsInfo": null,
 "ownershipBasedAccessControlForRasters": null,
 "allowComputeTiePoints": false,
 "useStandardizedQueries": true,
 "advancedQueryCapabilities": {
  "useStandardizedQueries": true,
  "supportsStatistics": false,
  "supportsOrderBy": false,
  "supportsDistinct": false,
  "supportsPagination": false
 },
 "spatialReference": {
  "wkid": 4326,
  "latestWkid": 4326
 }
}
