View In:
ArcGIS JavaScript
ArcGIS Online Map Viewer
ArcGIS Earth
Service Description: DEM_mosaics/CRM_mosaic
Name: DEM_mosaics/CRM_mosaic
Description:
Single Fused Map Cache: false
Extent:
XMin: -160.99999999999997
YMin: 17.00000081200006
XMax: -64.25000270899999
YMax: 46.00000000000006
Spatial Reference: 4326
(4326)
LatestVCSWkid(0)
Initial Extent:
XMin: -160.99999999999997
YMin: 17.00000081200006
XMax: -64.25000270899999
YMax: 46.00000000000006
Spatial Reference: 4326
(4326)
LatestVCSWkid(0)
Full Extent:
XMin: -160.99999999999997
YMin: 17.00000081200006
XMax: -64.25000270899999
YMax: 46.00000000000006
Spatial Reference: 4326
(4326)
LatestVCSWkid(0)
Pixel Size X: 2.7777776999999995E-4
Pixel Size Y: 2.7777776999999995E-4
Band Count: 1
Pixel Type: F32
RasterFunction Infos: {"rasterFunctionInfos": [
{
"name": "None",
"description": "Make a Raster or Raster Dataset into a Function Raster Dataset.",
"help": ""
},
{
"name": "ColorHillshade",
"description": "Multidirectional Color Hillshade (global bathy/topo color palette)",
"help": "An elevation-tinted shaded relief visualization, using Esri's \"multidirectional hillshade\". The elevation/depth is displayed using this color ramp: https://www.ncei.noaa.gov/maps/bathymetry/images/dem_color_scale.png. This color ramp was adapted from the \"bukavu\" color ramp from: https://www.fabiocrameri.ch/colourmaps/."
},
{
"name": "ColorHillshade2",
"description": "Multidirectional Color Hillshade (global bathy color palette, option #2)",
"help": "An elevation-tinted shaded relief visualization, using Esri's \"multidirectional hillshade\". The depth is displayed using this color ramp: https://www.ncei.noaa.gov/maps/bathymetry/images/dem_color_scale2.png. Land is portrayed as gray."
}
]}
Mensuration Capabilities: None
Inspection Capabilities:
Has Histograms: true
Has Colormap: false
Has Multi Dimensions : false
Rendering Rule:
Min Scale: 0
Max Scale: 0
Copyright Text:
Service Data Type: esriImageServiceDataTypeElevation
Min Values: -6330.58056640625
Max Values: 3628.499267578125
Mean Values: -1151.6289420573273
Standard Deviation Values: 1657.4875829942255
Object ID Field: OBJECTID
Fields:
-
OBJECTID
(
type: esriFieldTypeOID, alias: OBJECTID
)
-
Shape
(
type: esriFieldTypeGeometry, alias: Shape
)
-
Name
(
type: esriFieldTypeString, alias: Name, length: 200
)
-
MinPS
(
type: esriFieldTypeDouble, alias: MinPS
)
-
MaxPS
(
type: esriFieldTypeDouble, alias: MaxPS
)
-
LowPS
(
type: esriFieldTypeDouble, alias: LowPS
)
-
HighPS
(
type: esriFieldTypeDouble, alias: HighPS
)
-
Category
(
type: esriFieldTypeInteger, alias: Category
, Coded Values:
[0: Unknown]
, [1: Primary]
, [2: Overview]
, ...6 more...
)
-
Tag
(
type: esriFieldTypeString, alias: Tag, length: 100
)
-
GroupName
(
type: esriFieldTypeString, alias: GroupName, length: 100
)
-
ProductName
(
type: esriFieldTypeString, alias: ProductName, length: 100
)
-
CenterX
(
type: esriFieldTypeDouble, alias: CenterX
)
-
CenterY
(
type: esriFieldTypeDouble, alias: CenterY
)
-
ZOrder
(
type: esriFieldTypeInteger, alias: ZOrder
)
-
Shape_Length
(
type: esriFieldTypeDouble, alias: Shape_Length
)
-
Shape_Area
(
type: esriFieldTypeDouble, alias: Shape_Area
)
Default Mosaic Method: Northwest
Allowed Mosaic Methods: NorthWest
SortField:
SortValue: null
Mosaic Operator: First
Default Compression Quality: 90
Default Resampling Method: Bilinear
Max Record Count: 1000
Max Image Height: 20000
Max Image Width: 20000
Max Download Image Count: 20
Max Mosaic Image Count: 999
Allow Raster Function: true
Allow Copy: true
Allow Analysis: true
Allow Compute TiePoints: false
Supports Statistics: true
Supports Advanced Queries: true
Use StandardizedQueries: true
Raster Type Infos:
Name: Raster Dataset
Description: Supports all ArcGIS Raster Datasets
Help:
Has Raster Attribute Table: false
Edit Fields Info: null
Ownership Based AccessControl For Rasters: null
Child Resources:
Info
Histograms
Statistics
Key Properties
Legend
Raster Function Infos
Supported Operations:
Export Image
Query
Identify
Compute Histograms
Compute Statistics Histograms
Get Samples
Compute Class Statistics
Query GPS Info
Find Images
Image to Map
Map to Image
Measure from Image
Image to Map Multiray
Query Boundary
Compute Pixel Location
Compute Angles
Validate
Project
Calculate Volume