View In:
ArcGIS JavaScript
ArcGIS Online Map Viewer
ArcGIS Earth
Service Description: nccos/GOM_forecast_DN
Name: nccos/GOM_forecast_DN
Description:
Single Fused Map Cache: false
Extent:
XMin: -72.91808688750237
YMin: 38.65348880802593
XMax: -61.95619198369738
YMax: 46.63780662528429
Spatial Reference: 4326
(4326)
LatestVCSWkid(0)
Initial Extent:
XMin: -72.91808688750237
YMin: 38.65348880802593
XMax: -61.95619198369738
YMax: 46.63780662528429
Spatial Reference: 4326
(4326)
LatestVCSWkid(0)
Full Extent:
XMin: -72.91808688750237
YMin: 38.65348880802593
XMax: -61.95619198369738
YMax: 46.63780662528429
Spatial Reference: 4326
(4326)
LatestVCSWkid(0)
Time Info:
Start Time Field: StdTime
End Time Field: StdTime
Time Extent:
[2025/03/01 00:00:00 UTC, 2025/07/30 00:00:00 UTC]
Time Reference:
N/A
Pixel Size X: 0.02205612656701205
Pixel Size Y: 0.022056126567012058
Band Count: 1
Pixel Type: F32
RasterFunction Infos: {"rasterFunctionInfos": [
{
"name": "GOM_Raster_Function_Template2",
"description": "RFT for colormap",
"help": ""
},
{
"name": "None",
"description": "",
"help": ""
}
]}
Mensuration Capabilities: Basic
Inspection Capabilities:
Has Histograms: true
Has Colormap: true
Has Multi Dimensions : true
Rendering Rule:
Min Scale: 0
Max Scale: 0
Resampling: false
Copyright Text:
Service Data Type: esriImageServiceDataTypeScientific
Min Values: 0
Max Values: 254
Mean Values: 6.178329070604085
Standard Deviation Values: 22.584097967769225
Object ID Field:
Fields:
None
Default Mosaic Method: Center
Allowed Mosaic Methods:
SortField:
SortValue: null
Mosaic Operator: First
Default Compression Quality: 75
Default Resampling Method: Bilinear
Max Record Count: null
Max Image Height: 4100
Max Image Width: 15000
Max Download Image Count: null
Max Mosaic Image Count: null
Allow Raster Function: true
Allow Copy: true
Allow Analysis: true
Allow Compute TiePoints: false
Supports Statistics: false
Supports Advanced Queries: false
Use StandardizedQueries: true
Raster Type Infos:
Name: Raster Dataset
Description: Supports all ArcGIS Raster Datasets
Help:
Has Raster Attribute Table: false
Edit Fields Info: null
Ownership Based AccessControl For Rasters: null
Child Resources:
Info
Histograms
Statistics
Key Properties
Color Map
Legend
Raster Function Infos
Multidimensional Info
Slices
Supported Operations:
Export Image
Identify
Measure
Compute Histograms
Compute Statistics Histograms
Get Samples
Compute Class Statistics
Query Boundary
Compute Pixel Location
Compute Angles
Validate
Project