View In:
ArcGIS JavaScript
ArcGIS Online Map Viewer
ArcGIS Earth
Service Description: nccos/GOM_region_NE_CIcyano_crf
Name: nccos/GOM_region_NE_CIcyano_crf
Description:
Single Fused Map Cache: false
Extent:
XMin: -80
YMin: 33.999320000000004
XMax: -65.999475
YMax: 47
Spatial Reference: 4326
(4326)
Initial Extent:
XMin: -80
YMin: 33.999320000000004
XMax: -65.999475
YMax: 47
Spatial Reference: 4326
(4326)
Full Extent:
XMin: -80
YMin: 33.999320000000004
XMax: -65.999475
YMax: 47
Spatial Reference: 4326
(4326)
Time Info:
Start Time Field: StdTime
End Time Field: StdTime
Time Extent:
[2025/05/09 00:00:00 UTC, 2025/05/21 00:00:00 UTC]
Time Reference:
N/A
Pixel Size X: 0.002694999999999999
Pixel Size Y: 0.002694999999999999
Band Count: 1
Pixel Type: U8
RasterFunction Infos: {"rasterFunctionInfos": [{
"name": "None",
"description": "",
"help": ""
}]}
Mensuration Capabilities: Basic
Has Histograms: true
Has Colormap: true
Has Multi Dimensions : true
Rendering Rule:
Min Scale: 0
Max Scale: 0
Copyright Text:
Service Data Type: esriImageServiceDataTypeScientific
Min Values: 0
Max Values: 254
Mean Values: 168.23346081928437
Standard Deviation Values: 119.93570645647686
Object ID Field:
Fields:
None
Default Mosaic Method: Center
Allowed Mosaic Methods:
SortField:
SortValue: null
Mosaic Operator: First
Default Compression Quality: 75
Default Resampling Method: Bilinear
Max Record Count: null
Max Image Height: 4100
Max Image Width: 15000
Max Download Image Count: null
Max Mosaic Image Count: null
Allow Raster Function: true
Allow Copy: true
Allow Analysis: true
Allow Compute TiePoints: false
Supports Statistics: false
Supports Advanced Queries: false
Use StandardizedQueries: true
Raster Type Infos:
Name: Raster Dataset
Description: Supports all ArcGIS Raster Datasets
Help:
Has Raster Attribute Table: false
Edit Fields Info: null
Ownership Based AccessControl For Rasters: null
Child Resources:
Info
Histograms
Statistics
Key Properties
Color Map
Legend
Raster Function Infos
Multidimensional Info
Slices
Supported Operations:
Export Image
Identify
Measure
Compute Histograms
Compute Statistics Histograms
Get Samples
Compute Class Statistics
Query Boundary
Compute Pixel Location
Compute Angles
Validate
Project