View In:
ArcGIS JavaScript
ArcGIS Online Map Viewer
ArcGIS Earth
Service Description: nccos/MadelineIs_Substrate_WithoutBackscatter_Classification_Predictions
Name: nccos/MadelineIs_Substrate_WithoutBackscatter_Classification_Predictions
Description:
Single Fused Map Cache: false
Extent:
XMin: 425344.0
YMin: 1157744.0
XMax: 463248.0
YMax: 1183240.0
Spatial Reference: 3175
(3175)
LatestVCSWkid(0)
Initial Extent:
XMin: 425344.0
YMin: 1157744.0
XMax: 463248.0
YMax: 1183240.0
Spatial Reference: 3175
(3175)
LatestVCSWkid(0)
Full Extent:
XMin: 425344.0
YMin: 1157744.0
XMax: 463248.0
YMax: 1183240.0
Spatial Reference: 3175
(3175)
LatestVCSWkid(0)
Pixel Size X: 8.0
Pixel Size Y: 8.0
Band Count: 1
Pixel Type: U8
RasterFunction Infos: {"rasterFunctionInfos": [
{
"name": "Classification test 8 colormap AttTable",
"description": "Classification test 8 colormap AttTable",
"help": ""
},
{
"name": "None",
"description": "",
"help": ""
}
]}
Mensuration Capabilities: Basic
Inspection Capabilities:
Has Histograms: false
Has Colormap: false
Has Multi Dimensions : false
Rendering Rule:
Min Scale: 0
Max Scale: 0
Resampling: false
Copyright Text:
Service Data Type: esriImageServiceDataTypeGeneric
Min Values: N/A
Max Values: N/A
Mean Values: N/A
Standard Deviation Values: N/A
Object ID Field:
Fields:
None
Default Mosaic Method: Center
Allowed Mosaic Methods:
SortField:
SortValue: null
Mosaic Operator: First
Default Compression Quality: 75
Default Resampling Method: Bilinear
Max Record Count: null
Max Image Height: 4100
Max Image Width: 15000
Max Download Image Count: null
Max Mosaic Image Count: null
Allow Raster Function: true
Allow Copy: true
Allow Analysis: true
Allow Compute TiePoints: false
Supports Statistics: false
Supports Advanced Queries: false
Use StandardizedQueries: true
Raster Type Infos:
Name: Raster Dataset
Description: Supports all ArcGIS Raster Datasets
Help:
Has Raster Attribute Table: false
Edit Fields Info: null
Ownership Based AccessControl For Rasters: null
Child Resources:
Info
Statistics
Key Properties
Legend
Raster Function Infos
Supported Operations:
Export Image
Identify
Measure
Compute Histograms
Compute Statistics Histograms
Get Samples
Compute Class Statistics
Query Boundary
Compute Pixel Location
Compute Angles
Validate
Project