View In:
ArcGIS JavaScript
ArcGIS Online Map Viewer
ArcGIS Earth
Service Description: nccos/Madeline_Island_Substrate_Classification_Predictions_With_Backscatter
Name: nccos/Madeline_Island_Substrate_Classification_Predictions_With_Backscatter
Description:
Single Fused Map Cache: false
Extent:
XMin: -1.0110386791181281E7
YMin: 5900276.6661785245
XMax: -1.0051786791181281E7
YMax: 5942444.6661785245
Spatial Reference: 102100
(3857)
LatestVCSWkid(0)
Initial Extent:
XMin: -1.0110386791181281E7
YMin: 5900276.6661785245
XMax: -1.0051786791181281E7
YMax: 5942444.6661785245
Spatial Reference: 102100
(3857)
LatestVCSWkid(0)
Full Extent:
XMin: -1.0110386791181281E7
YMin: 5900276.6661785245
XMax: -1.0051786791181281E7
YMax: 5942444.6661785245
Spatial Reference: 102100
(3857)
LatestVCSWkid(0)
Pixel Size X: 8.0
Pixel Size Y: 8.0
Band Count: 1
Pixel Type: U8
RasterFunction Infos: {"rasterFunctionInfos": [
{
"name": "MadelineIs_Substrate_WithBackscatter_Classification_Predictions",
"description": "MadelineIs_Substrate_WithBackscatter_Classification_Predictions",
"help": ""
},
{
"name": "None",
"description": "",
"help": ""
}
]}
Mensuration Capabilities: Basic
Inspection Capabilities:
Has Histograms: true
Has Colormap: false
Has Multi Dimensions : false
Rendering Rule:
Min Scale: 0
Max Scale: 0
Resampling: false
Copyright Text: US DOC; NOAA; NOS; National Centers for Coastal Ocean Science (NCCOS)
Service Data Type: esriImageServiceDataTypeGeneric
Min Values: 1
Max Values: 5
Mean Values: 3.8165884175546068
Standard Deviation Values: 1.2514235520076509
Object ID Field:
Fields:
None
Default Mosaic Method: Center
Allowed Mosaic Methods:
SortField:
SortValue: null
Mosaic Operator: First
Default Compression Quality: 75
Default Resampling Method: Bilinear
Max Record Count: null
Max Image Height: 4100
Max Image Width: 15000
Max Download Image Count: null
Max Mosaic Image Count: null
Allow Raster Function: true
Allow Copy: true
Allow Analysis: true
Allow Compute TiePoints: false
Supports Statistics: false
Supports Advanced Queries: false
Use StandardizedQueries: true
Raster Type Infos:
Name: Raster Dataset
Description: Supports all ArcGIS Raster Datasets
Help:
Has Raster Attribute Table: true
Edit Fields Info: null
Ownership Based AccessControl For Rasters: null
Child Resources:
Info
Raster Attribute Table
Histograms
Statistics
Key Properties
Legend
Raster Function Infos
Supported Operations:
Export Image
Identify
Measure
Compute Histograms
Compute Statistics Histograms
Get Samples
Compute Class Statistics
Query Boundary
Compute Pixel Location
Compute Angles
Validate
Project