View In:
ArcGIS JavaScript
ArcGIS Online Map Viewer
ArcGIS Earth
Service Description: nccos/Wind_vector_field_magdir_crf
Name: nccos/Wind_vector_field_magdir_crf
Description:
Single Fused Map Cache: false
Extent:
XMin: -72.91808688750237
YMin: 38.65348880802593
XMax: -61.95619198369738
YMax: 46.63780662528429
Spatial Reference: 4326
(4326)
Initial Extent:
XMin: -72.91808688750237
YMin: 38.65348880802593
XMax: -61.95619198369738
YMax: 46.63780662528429
Spatial Reference: 4326
(4326)
Full Extent:
XMin: -72.91808688750237
YMin: 38.65348880802593
XMax: -61.95619198369738
YMax: 46.63780662528429
Spatial Reference: 4326
(4326)
Time Info:
Start Time Field: StdTime
End Time Field: StdTime
Time Extent:
[2023/04/20 00:00:00 UTC, 2023/05/15 00:00:00 UTC]
Time Reference:
N/A
Pixel Size X: 0.02205612656701205
Pixel Size Y: 0.022056126567012058
Band Count: 2
Pixel Type: F64
RasterFunction Infos: {"rasterFunctionInfos": [{
"name": "None",
"description": "",
"help": ""
}]}
Mensuration Capabilities: Basic
Has Histograms: true
Has Colormap: false
Has Multi Dimensions : true
Rendering Rule:
Min Scale: 0
Max Scale: 0
Copyright Text:
Service Data Type: esriImageServiceDataTypeVector-MagDir
Min Values: 5.0864038219105325E-8, -89.99996644370705
Max Values: 1.0588270133416882, 269.9996382782976
Mean Values: 0.07533197534253046, 80.7318418267065
Standard Deviation Values: 0.10013399200289629, 103.75469380900601
Object ID Field:
Fields:
None
Default Mosaic Method: Center
Allowed Mosaic Methods:
SortField:
SortValue: null
Mosaic Operator: First
Default Compression Quality: 75
Default Resampling Method: Bilinear
Max Record Count: null
Max Image Height: 4100
Max Image Width: 15000
Max Download Image Count: null
Max Mosaic Image Count: null
Allow Raster Function: true
Allow Copy: true
Allow Analysis: true
Allow Compute TiePoints: false
Supports Statistics: false
Supports Advanced Queries: false
Use StandardizedQueries: true
Raster Type Infos:
Name: Raster Dataset
Description: Supports all ArcGIS Raster Datasets
Help:
Has Raster Attribute Table: false
Edit Fields Info: null
Ownership Based AccessControl For Rasters: null
Child Resources:
Info
Histograms
Statistics
Key Properties
Legend
Raster Function Infos
Multidimensional Info
Slices
Supported Operations:
Export Image
Identify
Measure
Compute Histograms
Compute Statistics Histograms
Get Samples
Compute Class Statistics
Query Boundary
Compute Pixel Location
Compute Angles
Validate
Project