View In:
ArcGIS JavaScript
ArcGIS Online Map Viewer
ArcGIS Earth
Service Description: nccos/region_GC_CIcyano_crf
Name: nccos/region_GC_CIcyano_crf
Description:
Single Fused Map Cache: false
Extent:
XMin: -99.0
YMin: 24.001085000000003
XMax: -80.00025000000001
YMax: 31.0
Spatial Reference: 4326
(4326)
LatestVCSWkid(0)
Initial Extent:
XMin: -99.0
YMin: 24.001085000000003
XMax: -80.00025000000001
YMax: 31.0
Spatial Reference: 4326
(4326)
LatestVCSWkid(0)
Full Extent:
XMin: -99.0
YMin: 24.001085000000003
XMax: -80.00025000000001
YMax: 31.0
Spatial Reference: 4326
(4326)
LatestVCSWkid(0)
Time Info:
Start Time Field: StdTime
End Time Field: StdTime
Time Extent:
[2025/12/04 00:00:00 UTC, 2025/12/10 00:00:00 UTC]
Time Reference:
N/A
Pixel Size X: 0.0026949999999999986
Pixel Size Y: 0.0026949999999999986
Band Count: 1
Pixel Type: U8
RasterFunction Infos: {"rasterFunctionInfos": [
{
"name": "region_GC_CIcyano colormap",
"description": "region_GC_CIcyano colormap",
"help": ""
},
{
"name": "None",
"description": "",
"help": ""
}
]}
Mensuration Capabilities: Basic
Inspection Capabilities:
Has Histograms: true
Has Colormap: true
Has Multi Dimensions : true
Rendering Rule:
Min Scale: 0
Max Scale: 0
Resampling: false
Copyright Text:
Service Data Type: esriImageServiceDataTypeScientific
Min Values: 0
Max Values: 254
Mean Values: 151.01353355010664
Standard Deviation Values: 124.39035316161926
Object ID Field:
Fields:
None
Default Mosaic Method: Center
Allowed Mosaic Methods:
SortField:
SortValue: null
Mosaic Operator: First
Default Compression Quality: 75
Default Resampling Method: Bilinear
Max Record Count: null
Max Image Height: 4100
Max Image Width: 15000
Max Download Image Count: null
Max Mosaic Image Count: null
Allow Raster Function: true
Allow Copy: true
Allow Analysis: true
Allow Compute TiePoints: false
Supports Statistics: false
Supports Advanced Queries: false
Use StandardizedQueries: true
Raster Type Infos:
Name: Raster Dataset
Description: Supports all ArcGIS Raster Datasets
Help:
Has Raster Attribute Table: false
Edit Fields Info: null
Ownership Based AccessControl For Rasters: null
Child Resources:
Info
Histograms
Statistics
Key Properties
Color Map
Legend
Raster Function Infos
Multidimensional Info
Slices
Supported Operations:
Export Image
Identify
Measure
Compute Histograms
Compute Statistics Histograms
Get Samples
Compute Class Statistics
Query Boundary
Compute Pixel Location
Compute Angles
Validate
Project