View In:
ArcGIS JavaScript
ArcGIS Online Map Viewer
ArcGIS Earth
Service Description: OceanExploration/okeanos_explorer_grids_subsets
Name: OceanExploration/okeanos_explorer_grids_subsets
Description:
Single Fused Map Cache: false
Extent:
XMin: -2.00375070672E7
YMin: -1874895.0027457736
XMax: 2.0037507842788246E7
YMax: 8606202.14
Spatial Reference: 102100
(3857)
LatestVCSWkid(0)
Initial Extent:
XMin: -2.00375070672E7
YMin: -1874895.0027457736
XMax: 2.0037507842788246E7
YMax: 8606202.14
Spatial Reference: 102100
(3857)
LatestVCSWkid(0)
Full Extent:
XMin: -2.00375070672E7
YMin: -1874895.0027457736
XMax: 2.0037507842788246E7
YMax: 8606202.14
Spatial Reference: 102100
(3857)
LatestVCSWkid(0)
Pixel Size X: 11.131948586107846
Pixel Size Y: 11.131948792815306
Band Count: 1
Pixel Type: F32
RasterFunction Infos: {"rasterFunctionInfos": [
{
"name": "ColorHillshadeHaxby_8000-0",
"description": "Multidirectional Color Hillshade (Haxby color palette, range 8000-0m)",
"help": "An elevation-tinted shaded relief visualization, using Esri's \"multidirectional hillshade\". The depths are displayed using this color ramp: https://www.ncei.noaa.gov/maps/bathymetry/images/haxby_color_scale_8000-0.png"
},
{
"name": "None",
"description": "Make a Raster or Raster Dataset into a Function Raster Dataset.",
"help": ""
},
{
"name": "ColorHillshadeHaxby_1000-0",
"description": "Multidirectional Color Hillshade (Haxby color palette, range 1000-0m)",
"help": "An elevation-tinted shaded relief visualization, using Esri's \"multidirectional hillshade\". The depths are displayed using this color ramp: https://www.ncei.noaa.gov/maps/bathymetry/images/haxby_color_scale.png"
},
{
"name": "ColorHillshadeHaxby_2000-0",
"description": "Multidirectional Color Hillshade (Haxby color palette, range 2000-0m)",
"help": "An elevation-tinted shaded relief visualization, using Esri's \"multidirectional hillshade\". The depths are displayed using this color ramp: https://www.ncei.noaa.gov/maps/bathymetry/images/haxby_color_scale.png"
},
{
"name": "ColorHillshadeHaxby_5000-0",
"description": "Multidirectional Color Hillshade (Haxby color palette, range 5000-0m)",
"help": "An elevation-tinted shaded relief visualization, using Esri's \"multidirectional hillshade\". The depths are displayed using this color ramp: https://www.ncei.noaa.gov/maps/bathymetry/images/haxby_color_scale.png"
},
{
"name": "ColorHillshadeHaxby_DRA",
"description": "Multidirectional Color Hillshade (Haxby color palette, dynamic range adjustment)",
"help": "An elevation-tinted shaded relief visualization, using Esri's \"multidirectional hillshade\". The depths are displayed using this color ramp: https://www.ncei.noaa.gov/maps/bathymetry/images/haxby_color_scale.png"
},
{
"name": "ColorHillshadeBlues_1000-0",
"description": "Multidirectional Color Hillshade (blue color palette, range 1000-0m)",
"help": "An elevation-tinted shaded relief visualization, using Esri's \"multidirectional hillshade\". The depths are displayed using this color ramp: https://www.ncei.noaa.gov/maps/bathymetry/images/blue_color_scale.png"
},
{
"name": "ColorHillshadeBlues_2000-0",
"description": "Multidirectional Color Hillshade (blue color palette, range 2000-0m)",
"help": "An elevation-tinted shaded relief visualization, using Esri's \"multidirectional hillshade\". The depths are displayed using this color ramp: https://www.ncei.noaa.gov/maps/bathymetry/images/blue_color_scale.png"
},
{
"name": "ColorHillshadeBlues_5000-0",
"description": "Multidirectional Color Hillshade (blue color palette, range 5000-0m)",
"help": "An elevation-tinted shaded relief visualization, using Esri's \"multidirectional hillshade\". The depths are displayed using this color ramp: https://www.ncei.noaa.gov/maps/bathymetry/images/blue_color_scale.png"
},
{
"name": "ColorHillshadeBlues_8000-0",
"description": "Multidirectional Color Hillshade (blue color palette, range 8000-0m)",
"help": "An elevation-tinted shaded relief visualization, using Esri's \"multidirectional hillshade\". The depths are displayed using this color ramp: https://www.ncei.noaa.gov/maps/bathymetry/images/blue_color_scale.png"
},
{
"name": "ColorHillshadeBlues_DRA",
"description": "Multidirectional Color Hillshade (bluecolor palette, dynamic range adjustment)",
"help": "An elevation-tinted shaded relief visualization, using Esri's \"multidirectional hillshade\". The depths are displayed using this color ramp: https://www.ncei.noaa.gov/maps/bathymetry/images/blue_color_scale.png"
},
{
"name": "ColorHillshadeDarkBlues_1000-0",
"description": "Multidirectional Color Hillshade (dark blue color palette, range 1000-0m)",
"help": "An elevation-tinted shaded relief visualization, using Esri's \"multidirectional hillshade\". The depths are displayed using this color ramp: https://www.ncei.noaa.gov/maps/bathymetry/images/dark_blue_color_scale.png"
},
{
"name": "ColorHillshadeDarkBlues_2000-0",
"description": "Multidirectional Color Hillshade (dark blue color palette, range 2000-0m)",
"help": "An elevation-tinted shaded relief visualization, using Esri's \"multidirectional hillshade\". The depths are displayed using this color ramp: https://www.ncei.noaa.gov/maps/bathymetry/images/dark_blue_color_scale.png"
},
{
"name": "ColorHillshadeDarkBlues_5000-0",
"description": "Multidirectional Color Hillshade (dark blue color palette, range 5000-0m)",
"help": "An elevation-tinted shaded relief visualization, using Esri's \"multidirectional hillshade\". The depths are displayed using this color ramp: https://www.ncei.noaa.gov/maps/bathymetry/images/dark_blue_color_scale.png"
},
{
"name": "ColorHillshadeDarkBlues_8000-0",
"description": "Multidirectional Color Hillshade (dark blue color palette, range 8000-0m)",
"help": "An elevation-tinted shaded relief visualization, using Esri's \"multidirectional hillshade\". The depths are displayed using this color ramp: https://www.ncei.noaa.gov/maps/bathymetry/images/dark_blue_color_scale.png"
},
{
"name": "ColorHillshadeDarkBlues_DRA",
"description": "Multidirectional Color Hillshade (dark blue color palette, dynamic range adjustment)",
"help": "An elevation-tinted shaded relief visualization, using Esri's \"multidirectional hillshade\". The depths are displayed using this color ramp: https://www.ncei.noaa.gov/maps/bathymetry/images/dark_blue_color_scale.png"
}
]}
Mensuration Capabilities: Basic
Inspection Capabilities:
Has Histograms: false
Has Colormap: false
Has Multi Dimensions : false
Rendering Rule:
Min Scale: 0
Max Scale: 0
Copyright Text:
Service Data Type: esriImageServiceDataTypeGeneric
Min Values: N/A
Max Values: N/A
Mean Values: N/A
Standard Deviation Values: N/A
Object ID Field: OBJECTID
Fields:
-
OBJECTID
(
type: esriFieldTypeOID, alias: OBJECTID
)
-
Shape
(
type: esriFieldTypeGeometry, alias: Shape
)
-
Name
(
type: esriFieldTypeString, alias: Name, length: 200
)
-
MinPS
(
type: esriFieldTypeDouble, alias: MinPS
)
-
MaxPS
(
type: esriFieldTypeDouble, alias: MaxPS
)
-
LowPS
(
type: esriFieldTypeDouble, alias: LowPS
)
-
HighPS
(
type: esriFieldTypeDouble, alias: HighPS
)
-
Category
(
type: esriFieldTypeInteger, alias: Category
, Coded Values:
[0: Unknown]
, [1: Primary]
, [2: Overview]
, ...6 more...
)
-
Tag
(
type: esriFieldTypeString, alias: Tag, length: 100
)
-
GroupName
(
type: esriFieldTypeString, alias: GroupName, length: 100
)
-
ProductName
(
type: esriFieldTypeString, alias: ProductName, length: 100
)
-
CenterX
(
type: esriFieldTypeDouble, alias: CenterX
)
-
CenterY
(
type: esriFieldTypeDouble, alias: CenterY
)
-
ZOrder
(
type: esriFieldTypeInteger, alias: ZOrder
)
-
Shape_Length
(
type: esriFieldTypeDouble, alias: Shape_Length
)
-
Shape_Area
(
type: esriFieldTypeDouble, alias: Shape_Area
)
-
CruiseID
(
type: esriFieldTypeString, alias: CruiseID, length: 10
)
Default Mosaic Method: LockRaster
Allowed Mosaic Methods: LockRaster
SortField:
SortValue: null
Mosaic Operator: First
Default Compression Quality: 90
Default Resampling Method: Bilinear
Max Record Count: 1000
Max Image Height: 20000
Max Image Width: 20000
Max Download Image Count: 20
Max Mosaic Image Count: 20
Allow Raster Function: true
Allow Copy: true
Allow Analysis: true
Allow Compute TiePoints: false
Supports Statistics: true
Supports Advanced Queries: true
Use StandardizedQueries: true
Raster Type Infos:
Name: Raster Dataset
Description: Supports all ArcGIS Raster Datasets
Help:
Has Raster Attribute Table: false
Edit Fields Info: null
Ownership Based AccessControl For Rasters: null
Child Resources:
Info
Statistics
Key Properties
Legend
Raster Function Infos
Supported Operations:
Export Image
Query
Identify
Measure
Compute Histograms
Compute Statistics Histograms
Get Samples
Compute Class Statistics
Query GPS Info
Find Images
Image to Map
Map to Image
Measure from Image
Image to Map Multiray
Query Boundary
Compute Pixel Location
Compute Angles
Validate
Project