View In:
ArcGIS JavaScript
ArcGIS Online Map Viewer
ArcGIS Earth
Service Description: nccos/GOM_Forecast_wind_crf
Name: nccos/GOM_Forecast_wind_crf
Description:
Single Fused Map Cache: false
Extent:
XMin: -72.91808688750237
YMin: 38.63780662528429
XMax: -61.41808688750237
YMax: 45.88780662528429
Spatial Reference: 4326
(4326)
Initial Extent:
XMin: -72.91808688750237
YMin: 38.63780662528429
XMax: -61.41808688750237
YMax: 45.88780662528429
Spatial Reference: 4326
(4326)
Full Extent:
XMin: -72.91808688750237
YMin: 38.63780662528429
XMax: -61.41808688750237
YMax: 45.88780662528429
Spatial Reference: 4326
(4326)
Time Info:
Start Time Field: StdTime
End Time Field: StdTime
Time Extent:
[2023/03/01 00:00:00 UTC, 2023/07/15 12:00:00 UTC]
Time Reference:
N/A
Pixel Size X: 0.25
Pixel Size Y: 0.25
Band Count: 2
Pixel Type: F32
RasterFunction Infos: {"rasterFunctionInfos": [{
"name": "None",
"description": "",
"help": ""
}]}
Mensuration Capabilities: Basic
Has Histograms: true
Has Colormap: false
Has Multi Dimensions : true
Rendering Rule:
Min Scale: 0
Max Scale: 0
Copyright Text:
Service Data Type: esriImageServiceDataTypeVector-UV
Min Values: -1.561886191368103, -2.141693353652954
Max Values: 1.2096480131149292, 0.9383893013000488
Mean Values: 0.007506785560587778, -0.010828489613427006
Standard Deviation Values: 0.11740864017811933, 0.10639912632642404
Object ID Field:
Fields:
None
Default Mosaic Method: Center
Allowed Mosaic Methods:
SortField:
SortValue: null
Mosaic Operator: First
Default Compression Quality: 75
Default Resampling Method: Bilinear
Max Record Count: null
Max Image Height: 4100
Max Image Width: 15000
Max Download Image Count: null
Max Mosaic Image Count: null
Allow Raster Function: true
Allow Copy: true
Allow Analysis: true
Allow Compute TiePoints: false
Supports Statistics: false
Supports Advanced Queries: false
Use StandardizedQueries: true
Raster Type Infos:
Name: Raster Dataset
Description: Supports all ArcGIS Raster Datasets
Help:
Has Raster Attribute Table: false
Edit Fields Info: null
Ownership Based AccessControl For Rasters: null
Child Resources:
Info
Histograms
Statistics
Key Properties
Legend
Raster Function Infos
Multidimensional Info
Slices
Supported Operations:
Export Image
Identify
Measure
Compute Histograms
Compute Statistics Histograms
Get Samples
Compute Class Statistics
Query Boundary
Compute Pixel Location
Compute Angles
Validate
Project