View In:
ArcGIS JavaScript
ArcGIS Online Map Viewer
ArcGIS Earth
Service Description: nccos/GOM_forecast_current_crf
Name: nccos/GOM_forecast_current_crf
Description:
Single Fused Map Cache: false
Extent:
XMin: -72.91808688750237
YMin: 38.65348880802593
XMax: -61.95619198369738
YMax: 46.63780662528429
Spatial Reference: 4326
(4326)
LatestVCSWkid(0)
Initial Extent:
XMin: -72.91808688750237
YMin: 38.65348880802593
XMax: -61.95619198369738
YMax: 46.63780662528429
Spatial Reference: 4326
(4326)
LatestVCSWkid(0)
Full Extent:
XMin: -72.91808688750237
YMin: 38.65348880802593
XMax: -61.95619198369738
YMax: 46.63780662528429
Spatial Reference: 4326
(4326)
LatestVCSWkid(0)
Time Info:
Start Time Field: StdTime
End Time Field: StdTime
Time Extent:
[2025/03/01 00:00:00 UTC, 2025/07/30 00:00:00 UTC]
Time Reference:
N/A
Pixel Size X: 0.02205612656701205
Pixel Size Y: 0.022056126567012058
Band Count: 2
Pixel Type: F64
RasterFunction Infos: {"rasterFunctionInfos": [{
"name": "None",
"description": "",
"help": ""
}]}
Mensuration Capabilities: Basic
Inspection Capabilities:
Has Histograms: true
Has Colormap: false
Has Multi Dimensions : true
Rendering Rule:
Min Scale: 0
Max Scale: 0
Copyright Text:
Service Data Type: esriImageServiceDataTypeVector-UV
Min Values: -3.875311851501465, -2.3626410961151123
Max Values: 6.15838623046875, 2.574404239654541
Mean Values: 0.0025647978208127612, 0.025525620990622562
Standard Deviation Values: 0.3498956955717969, 0.37079355172856004
Object ID Field:
Fields:
None
Default Mosaic Method: Center
Allowed Mosaic Methods:
SortField:
SortValue: null
Mosaic Operator: First
Default Compression Quality: 75
Default Resampling Method: Bilinear
Max Record Count: null
Max Image Height: 4100
Max Image Width: 15000
Max Download Image Count: null
Max Mosaic Image Count: null
Allow Raster Function: true
Allow Copy: true
Allow Analysis: true
Allow Compute TiePoints: false
Supports Statistics: false
Supports Advanced Queries: false
Use StandardizedQueries: true
Raster Type Infos:
Name: Raster Dataset
Description: Supports all ArcGIS Raster Datasets
Help:
Has Raster Attribute Table: false
Edit Fields Info: null
Ownership Based AccessControl For Rasters: null
Child Resources:
Info
Histograms
Statistics
Key Properties
Legend
Raster Function Infos
Multidimensional Info
Slices
Supported Operations:
Export Image
Identify
Measure
Compute Histograms
Compute Statistics Histograms
Get Samples
Compute Class Statistics
Query Boundary
Compute Pixel Location
Compute Angles
Validate
Project